BEGIN:VCALENDAR
VERSION:2.0
PRODID:-//ASCRO - ECPv6.15.20//NONSGML v1.0//EN
CALSCALE:GREGORIAN
METHOD:PUBLISH
X-ORIGINAL-URL:https://ascro.se
X-WR-CALDESC:Events for ASCRO
REFRESH-INTERVAL;VALUE=DURATION:PT1H
X-Robots-Tag:noindex
X-PUBLISHED-TTL:PT1H
BEGIN:VTIMEZONE
TZID:Europe/Helsinki
BEGIN:DAYLIGHT
TZOFFSETFROM:+0200
TZOFFSETTO:+0300
TZNAME:EEST
DTSTART:20240331T010000
END:DAYLIGHT
BEGIN:STANDARD
TZOFFSETFROM:+0300
TZOFFSETTO:+0200
TZNAME:EET
DTSTART:20241027T010000
END:STANDARD
BEGIN:DAYLIGHT
TZOFFSETFROM:+0200
TZOFFSETTO:+0300
TZNAME:EEST
DTSTART:20250330T010000
END:DAYLIGHT
BEGIN:STANDARD
TZOFFSETFROM:+0300
TZOFFSETTO:+0200
TZNAME:EET
DTSTART:20251026T010000
END:STANDARD
BEGIN:DAYLIGHT
TZOFFSETFROM:+0200
TZOFFSETTO:+0300
TZNAME:EEST
DTSTART:20260329T010000
END:DAYLIGHT
BEGIN:STANDARD
TZOFFSETFROM:+0300
TZOFFSETTO:+0200
TZNAME:EET
DTSTART:20261025T010000
END:STANDARD
END:VTIMEZONE
BEGIN:VEVENT
DTSTART;TZID=Europe/Helsinki:20250603T160000
DTEND;TZID=Europe/Helsinki:20250603T193000
DTSTAMP:20260423T113547
CREATED:20250303T152553Z
LAST-MODIFIED:20250527T131205Z
UID:4211-1748966400-1748979000@ascro.se
SUMMARY:ASCRO Members' Meeting
DESCRIPTION:
URL:https://ascro.se/event/ascro-members-meeting/
LOCATION:Forskaren\, Hagaesplanaden 49\, Stockholm\, Sweden
ORGANIZER;CN="ASCRO":MAILTO:info@ascro.se
END:VEVENT
END:VCALENDAR